BEGIN:VCALENDAR
VERSION:2.0
PRODID:-//Conanicut Island Sailing Foundation - ECPv6.15.20//NONSGML v1.0//EN
CALSCALE:GREGORIAN
METHOD:PUBLISH
X-WR-CALNAME:Conanicut Island Sailing Foundation
X-ORIGINAL-URL:https://www.jamestownsailing.org
X-WR-CALDESC:Events for Conanicut Island Sailing Foundation
REFRESH-INTERVAL;VALUE=DURATION:PT1H
X-Robots-Tag:noindex
X-PUBLISHED-TTL:PT1H
BEGIN:VTIMEZONE
TZID:UTC
BEGIN:STANDARD
TZOFFSETFROM:+0000
TZOFFSETTO:+0000
TZNAME:UTC
DTSTART:20250101T000000
END:STANDARD
END:VTIMEZONE
BEGIN:VEVENT
DTSTART;TZID=UTC:20260316T144000
DTEND;TZID=UTC:20260417T170000
DTSTAMP:20260422T132240
CREATED:20260307T160648Z
LAST-MODIFIED:20260307T161049Z
UID:3235-1773672000-1776445200@www.jamestownsailing.org
SUMMARY:Spring Afterschool Programs (Session 1): Backyard Explorers
DESCRIPTION:Learn more about our Afterschool Programs here.
URL:https://www.jamestownsailing.org/event/spring-afterschool-programs-session-1-backyard-explorers/
LOCATION:Jamestown Schools\, 76 Melrose Ave\, Jamestown\, RI\, 02835\, United States
CATEGORIES:Youth Programs
END:VEVENT
END:VCALENDAR