BEGIN:VCALENDAR
VERSION:2.0
PRODID:-//Conanicut Island Sailing Foundation - ECPv6.15.20//NONSGML v1.0//EN
CALSCALE:GREGORIAN
METHOD:PUBLISH
X-ORIGINAL-URL:https://www.jamestownsailing.org
X-WR-CALDESC:Events for Conanicut Island Sailing Foundation
REFRESH-INTERVAL;VALUE=DURATION:PT1H
X-Robots-Tag:noindex
X-PUBLISHED-TTL:PT1H
BEGIN:VTIMEZONE
TZID:UTC
BEGIN:STANDARD
TZOFFSETFROM:+0000
TZOFFSETTO:+0000
TZNAME:UTC
DTSTART:20250101T000000
END:STANDARD
END:VTIMEZONE
BEGIN:VEVENT
DTSTART;TZID=UTC:20260812T163000
DTEND;TZID=UTC:20260812T180000
DTSTAMP:20260423T110813
CREATED:20260120T191542Z
LAST-MODIFIED:20260120T191542Z
UID:3037-1786552200-1786557600@www.jamestownsailing.org
SUMMARY:Wednesday Free Sailing Ends
DESCRIPTION:Thank you to our sponsor\, Lila Delman Compass! \nFree Sailing takes place in the summer\, on Wednesday evenings from 4:30-6:30 from the Fort Getty Boat Ramp. \nNo prior experience is needed. NO RESERVATIONS NEEDED NOR TAKEN.\nJust come to the boat ramp at 4:30\, fill out a waiver\, don a life jacket (we can provide these)\, and away you go!\nThere is an instructor on each sailboat (mandatory).
URL:https://www.jamestownsailing.org/event/wednesday-free-sailing-ends/
LOCATION:Ft. Getty Boat Ramp
END:VEVENT
BEGIN:VEVENT
DTSTART;VALUE=DATE:20260813
DTEND;VALUE=DATE:20260814
DTSTAMP:20260423T110813
CREATED:20260120T192532Z
LAST-MODIFIED:20260120T192610Z
UID:3040-1786579200-1786665599@www.jamestownsailing.org
SUMMARY:CISF's August Fundraiser
DESCRIPTION:(LOCATION & TIME TBD)\nCome join us in celebrating and supporting CISF!\nEnjoy live music\, a raw bar\, live and silence auctions\, and more!
URL:https://www.jamestownsailing.org/event/cisfs-august-fundraiser/
CATEGORIES:Community Events
END:VEVENT
END:VCALENDAR